BEGIN:VCALENDAR
VERSION:2.0
PRODID:-//ChamberMaster//Event Calendar 2.0//EN
METHOD:PUBLISH
X-PUBLISHED-TTL:P3D
REFRESH-INTERVAL:P3D
CALSCALE:GREGORIAN
BEGIN:VEVENT
DTSTART:20260606T150000Z
DTEND:20260607T010000Z
X-MICROSOFT-CDO-ALLDAYEVENT:FALSE
SUMMARY:14th Annual Rich Hiner Run
DESCRIPTION:The Pour House Liquor & Saloon 14th Annual Rich Hiner Run charity Benefit  (Poker run\, basket raffle\, silent auction\, food plates
X-ALT-DESC;FMTTYPE=text/html:The Pour House Liquor &amp\; Saloon 14th Annual Rich Hiner Run charity Benefit&nbsp\;&nbsp\;(Poker run\, basket raffle\, silent auction\, food plates
LOCATION:The pour house
UID:e.1462.27663
SEQUENCE:3
DTSTAMP:20260422T140114Z
URL:https://business.rockspringschamber.com/events/details/14th-annual-rich-hiner-run-27663
END:VEVENT

END:VCALENDAR
