BEGIN:VCALENDAR
VERSION:2.0
PRODID:-//ChamberMaster//Event Calendar 2.0//EN
METHOD:PUBLISH
X-PUBLISHED-TTL:P3D
REFRESH-INTERVAL:P3D
CALSCALE:GREGORIAN
BEGIN:VEVENT
DTSTART:20241107T233000Z
DTEND:20241108T033000Z
X-MICROSOFT-CDO-ALLDAYEVENT:FALSE
SUMMARY:American Red Cross Lifeguarding Class
DESCRIPTION:
X-ALT-DESC;FMTTYPE=text/html:
LOCATION:Civic Center 410 N St. Rock Springs\, WY 82901
UID:e.1462.19474
SEQUENCE:3
DTSTAMP:20260422T090015Z
URL:https://business.rockspringschamber.com/events/details/american-red-cross-lifeguarding-class-19474
END:VEVENT

END:VCALENDAR
