BEGIN:VCALENDAR
VERSION:2.0
PRODID:-//ChamberMaster//Event Calendar 2.0//EN
METHOD:PUBLISH
X-PUBLISHED-TTL:P3D
REFRESH-INTERVAL:P3D
CALSCALE:GREGORIAN
BEGIN:VEVENT
DTSTART:20240920T160000Z
DTEND:20240921T210000Z
X-MICROSOFT-CDO-ALLDAYEVENT:FALSE
SUMMARY:Bitter Creek Boutique is Back!!!!
DESCRIPTION:Bitter Creek Boutique is Back\n\nGift and Craft Boutique
X-ALT-DESC;FMTTYPE=text/html:Bitter Creek Boutique is Back<br />\nGift and Craft Boutique
LOCATION:Park Hotel Banquet Room 19 Elk Street Rock Springs WY
UID:e.1462.19415
SEQUENCE:3
DTSTAMP:20260425T215438Z
URL:https://business.rockspringschamber.com/events/details/bitter-creek-boutique-is-back-19415
END:VEVENT

END:VCALENDAR
