BEGIN:VCALENDAR
VERSION:2.0
PRODID:-//ChamberMaster//Event Calendar 2.0//EN
METHOD:PUBLISH
X-PUBLISHED-TTL:P3D
REFRESH-INTERVAL:P3D
CALSCALE:GREGORIAN
BEGIN:VEVENT
DTSTART:20250508T000000Z
DTEND:20250508T020000Z
X-MICROSOFT-CDO-ALLDAYEVENT:FALSE
SUMMARY:Crochet Class
DESCRIPTION:Omorose Cardigan
X-ALT-DESC;FMTTYPE=text/html:Omorose Cardigan
LOCATION:The Yarn and the Tale 123 Broadway\, Rock Springs WY 82901
UID:e.1462.21326
SEQUENCE:3
DTSTAMP:20260423T201227Z
URL:https://business.rockspringschamber.com/events/details/crochet-class-21326
END:VEVENT

END:VCALENDAR
