BEGIN:VCALENDAR
VERSION:2.0
PRODID:-//ChamberMaster//Event Calendar 2.0//EN
METHOD:PUBLISH
X-PUBLISHED-TTL:P3D
REFRESH-INTERVAL:P3D
CALSCALE:GREGORIAN
BEGIN:VEVENT
DTSTART:20201002T013000Z
DTEND:20201002T033000Z
X-MICROSOFT-CDO-ALLDAYEVENT:FALSE
SUMMARY:Dancing at Lughnasa
DESCRIPTION:Western Wyoming Community College's Performing Arts Department will present "Dancing at Lughnasa" on October 1\, 2\, and 3 at 7:30PM with a matinee at 1PM on October 3. The shows will be presented in-person on the theatre stage\, or via live stream. \n\n\n\n"Dancing at Lughnasa"\, a story told by Michael Evans and his memories of love and loss during the summer of 1936. It takes place around the Celtic harvest festival\, Lughnasa\, which becomes the final celebration before life changes forever for Michael's mother\, his aunts and uncle.\n\n\n\nTickets to in-person and streaming events are $13 for adults and $8 for youth and seniors. Tickets will only be available online or by calling the Box Office at (307) 382-1721. No paper tickets will be issued or collected. \n\n \n\nChildren under five are not permitted to the evening performances\; however\, they are welcome to attend the Saturday matinee. Face coverings are required in the Theater.
X-ALT-DESC;FMTTYPE=text/html:<span style="font-family:century gothic\,sans-serif">Western Wyoming Community College&rsquo\;s Performing Arts Department will present &ldquo\;Dancing at Lughnasa&rdquo\; on October 1\, 2\, and 3 at 7:30PM with a matinee at 1PM on October 3. The shows will be presented in-person on the theatre stage\, or via live stream. </span><br />\n<br />\n<span style="font-family:century gothic\,sans-serif">&ldquo\;Dancing at Lughnasa&rdquo\;\, a story told by Michael Evans and his memories of love and loss during the summer of 1936. It takes place around the Celtic harvest festival\, Lughnasa\, which becomes the final celebration before life changes forever for Michael&rsquo\;s mother\, his aunts and uncle.<br />\n<br />\nTickets to in-person and streaming events are $13 for adults and $8 for youth and seniors. Tickets will only be available online or by calling the Box Office at (307) 382-1721. No paper tickets will be issued or collected. </span><br />\n&nbsp\;<br />\n<span style="font-family:century gothic\,sans-serif">Children under five are not permitted to the evening performances\; however\, they are welcome to attend the Saturday matinee. Face coverings are required in the Theater.</span><br />\n<br />\n&nbsp\;
LOCATION:Western's Theatre or via Live Stream.
UID:e.1462.14829
SEQUENCE:3
DTSTAMP:20260421T201638Z
URL:https://business.rockspringschamber.com/events/details/dancing-at-lughnasa-10-01-2020-14829
END:VEVENT

END:VCALENDAR
