BEGIN:VCALENDAR
VERSION:2.0
PRODID:-//ChamberMaster//Event Calendar 2.0//EN
METHOD:PUBLISH
X-PUBLISHED-TTL:P3D
REFRESH-INTERVAL:P3D
CALSCALE:GREGORIAN
BEGIN:VEVENT
DTSTART:20200329T010000Z
DTEND:20200329T040000Z
X-MICROSOFT-CDO-ALLDAYEVENT:FALSE
SUMMARY:Guns vs. Hoses Basketball Game
DESCRIPTION:Rock Springs Fire Department vs. Rock Springs Police Department basketball game.  Sure to be a great event!!  Free admission.  Please bring a non-parishable food item.
X-ALT-DESC;FMTTYPE=text/html:Rock Springs Fire Department vs. Rock Springs Police Department basketball game.&nbsp\; Sure to be a great event!!&nbsp\; Free admission.&nbsp\; Please bring a non-parishable food item.
LOCATION:Western Wyoming Community College\, Rushmore Gym
UID:e.1462.14628
SEQUENCE:3
DTSTAMP:20260420T165441Z
URL:https://business.rockspringschamber.com/events/details/guns-vs-hoses-basketball-game-14628
END:VEVENT

END:VCALENDAR
