BEGIN:VCALENDAR
VERSION:2.0
PRODID:-//ChamberMaster//Event Calendar 2.0//EN
METHOD:PUBLISH
X-PUBLISHED-TTL:P3D
REFRESH-INTERVAL:P3D
CALSCALE:GREGORIAN
BEGIN:VEVENT
DTSTART:20250911T180000Z
DTEND:20250911T200000Z
X-MICROSOFT-CDO-ALLDAYEVENT:FALSE
SUMMARY:Membership Connection Luncheon - September 2025
DESCRIPTION:The Rock Springs Chamber is hosting the Membership Connections Luncheon. \n\nThe September luncheon will feature Dr. Joseph Libby\, Superintendent of School District  1 presenting the Rock Springs Chamber of Commerce Teacher of the year. \n\nFollowing the presentation\, Megan Degenfelder\, the Wyoming Superintendent of Public Instruction will be doing a presentation.
X-ALT-DESC;FMTTYPE=text/html:<span style="font-size:14px\;"><span style="font-family:arial\;">The Rock Springs Chamber is hosting the Membership Connections Luncheon.&nbsp\;<br />\nThe September luncheon will feature Dr. Joseph Libby\, Superintendent of School District&nbsp\; 1 presenting the Rock Springs Chamber of Commerce Teacher of the year.&nbsp\;</span></span><br />\nFollowing the presentation\, Megan Degenfelder\, the Wyoming Superintendent of Public Instruction will be doing a presentation.
LOCATION:Santa Fe Trail Restaurant 1635 Elk St Rock Springs Wyoming
UID:e.1462.21635
SEQUENCE:3
DTSTAMP:20260419T185146Z
URL:https://business.rockspringschamber.com/events/details/membership-connection-luncheon-september-2025-21635
END:VEVENT

END:VCALENDAR
