BEGIN:VCALENDAR
VERSION:2.0
PRODID:-//ChamberMaster//Event Calendar 2.0//EN
METHOD:PUBLISH
X-PUBLISHED-TTL:P3D
REFRESH-INTERVAL:P3D
CALSCALE:GREGORIAN
BEGIN:VEVENT
DTSTART:20240314T180000Z
DTEND:20240314T190000Z
X-MICROSOFT-CDO-ALLDAYEVENT:FALSE
SUMMARY:Monthly Connections Luncheon - March 2024 - State of the City Address
DESCRIPTION:The Rock Springs Chamber is hosting the Monthly Connections Luncheon. Mayor Max Mickelson and Council President Larry Hickerson will report to us the State of the City Address.
X-ALT-DESC;FMTTYPE=text/html:<span style="font-size:14px\;"><span style="font-family:arial\;">The Rock Springs Chamber is hosting the Monthly Connections Luncheon. Mayor Max Mickelson and Council President Larry Hickerson will report to us the State of the City Address.</span></span>
LOCATION:Santa Fe Southwest Grill 1635 Elk St. Rock Springs\, WY 82901
UID:e.1462.19052
SEQUENCE:3
DTSTAMP:20260425T130132Z
URL:https://business.rockspringschamber.com/events/details/monthly-connections-luncheon-march-2024-state-of-the-city-address-19052
END:VEVENT

END:VCALENDAR
