BEGIN:VCALENDAR
VERSION:2.0
PRODID:-//ChamberMaster//Event Calendar 2.0//EN
METHOD:PUBLISH
X-PUBLISHED-TTL:P3D
REFRESH-INTERVAL:P3D
CALSCALE:GREGORIAN
BEGIN:VEVENT
DTSTART:20210612T173000Z
DTEND:20210612T180000Z
X-MICROSOFT-CDO-ALLDAYEVENT:FALSE
SUMMARY:Ribbon Cutting and Open House for Aspen Mountain Plumbing
DESCRIPTION:Please join us for a Ribbon Cutting and Open House for Aspen Mountain Plumbing.\n\n\n\nThe Open House is Saturday June 12th from 11am - 2pm.  Ribbon Cutting will be held at 11:30 a.m. \n\n1219 Elk Street\, Rock Springs\n\n Hope to see you there!
X-ALT-DESC;FMTTYPE=text/html:<strong><span style="color:#9950D0\;"><span style="font-family:arial\,sans-serif\;"><span style="font-size:16.5pt\;">Please join us for a Ribbon Cutting and Open House for Aspen Mountain Plumbing.</span></span></span></strong><br />\n<br />\n<strong><span style="color:#009999\;"><span style="font-family:arial\,sans-serif\;"><span style="font-size:16.5pt\;">The Open House is Saturday June 12th from 11am - 2pm.&nbsp\; Ribbon Cutting will be held </span></span></span></strong><strong><span style="color:#009999\;"><span style="font-family:arial\,sans-serif\;"><span style="font-size:16.5pt\;">at 11:30 a.m.&nbsp\;<br />\n1219 Elk Street\, Rock Springs</span></span></span></strong><br />\n&nbsp\;<strong><span style="color:#FF9933\;"><span style="font-family:arial\,sans-serif\;"><span style="font-size:16.5pt\;">Hope to see you there!</span></span></span></strong>
LOCATION:1219 Elk Street Rock Springs\, Wyoming
UID:e.1462.15584
SEQUENCE:3
DTSTAMP:20260421T090059Z
URL:https://business.rockspringschamber.com/events/details/ribbon-cutting-and-open-house-for-aspen-mountain-plumbing-15584
END:VEVENT

END:VCALENDAR
