BEGIN:VCALENDAR
VERSION:2.0
PRODID:-//ChamberMaster//Event Calendar 2.0//EN
METHOD:PUBLISH
X-PUBLISHED-TTL:P3D
REFRESH-INTERVAL:P3D
CALSCALE:GREGORIAN
BEGIN:VEVENT
DTSTART:20201020T183000Z
DTEND:20201020T190000Z
X-MICROSOFT-CDO-ALLDAYEVENT:FALSE
SUMMARY:Ribbon Cutting for McConnell Agency AAA
DESCRIPTION:Please join us for a Ribbon Cutting for McConnell Agency AAA.\n\n\n\nThe Ribbon Cutting will be held Tuesday\, October 20th at 12:30 p.m. at 720 Dewar Drive in Rock Springs.  \n\n Hope to see you there!
X-ALT-DESC;FMTTYPE=text/html:<strong><span style="color:#9950D0\;"><span style="font-family:arial\,sans-serif\;"><span style="font-size:16.5pt\;">Please join us for a Ribbon Cutting for McConnell Agency AAA.</span></span></span></strong><br />\n<br />\n<strong><span style="color:#009999\;"><span style="font-family:arial\,sans-serif\;"><span style="font-size:16.5pt\;">The Ribbon Cutting will be held Tuesday\, October 20th at 12:30 p.m. at 720 Dewar Drive in Rock Springs.&nbsp\;&nbsp\;</span></span></span></strong><br />\n&nbsp\;<strong><span style="color:#FF9933\;"><span style="font-family:arial\,sans-serif\;"><span style="font-size:16.5pt\;">Hope to see you there!</span></span></span></strong>
LOCATION:720 Dewar Drive Rock Springs\, Wyoming
UID:e.1462.14834
SEQUENCE:3
DTSTAMP:20260420T033849Z
URL:https://business.rockspringschamber.com/events/details/ribbon-cutting-for-mcconnell-agency-aaa-14834
END:VEVENT

END:VCALENDAR
