BEGIN:VCALENDAR
VERSION:2.0
PRODID:-//ChamberMaster//Event Calendar 2.0//EN
METHOD:PUBLISH
X-PUBLISHED-TTL:P3D
REFRESH-INTERVAL:P3D
CALSCALE:GREGORIAN
BEGIN:VEVENT
DTSTART:20221119T180000Z
DTEND:20221119T200000Z
X-MICROSOFT-CDO-ALLDAYEVENT:FALSE
SUMMARY:Survivor's of Suicide Loss Day
DESCRIPTION:Join us for Sweetwater County's Second Annual Survivor's of Suicide Loss Day event. Survivor day events are an opportunity where people with shared experiences can come together and find connection\, support\, hope\, and understanding. This event is open to everyone who has lost someone to suicide\, or wants to support someone who has.
X-ALT-DESC;FMTTYPE=text/html:Join us for Sweetwater County&#39\;s Second Annual Survivor&#39\;s of Suicide Loss Day event. Survivor day events are an opportunity where people with shared experiences can come together and find connection\, support\, hope\, and understanding. This event is open to everyone who has lost someone to suicide\, or wants to support someone who has.
LOCATION:Able Hands 126 Elk St\, Rock Springs\, WY 82901
UID:e.1462.18598
SEQUENCE:3
DTSTAMP:20260425T115331Z
URL:https://business.rockspringschamber.com/events/details/survivor-s-of-suicide-loss-day-18598
END:VEVENT

END:VCALENDAR
