BEGIN:VCALENDAR
VERSION:2.0
PRODID:-//ChamberMaster//Event Calendar 2.0//EN
METHOD:PUBLISH
X-PUBLISHED-TTL:P3D
REFRESH-INTERVAL:P3D
CALSCALE:GREGORIAN
BEGIN:VEVENT
DTSTART:20260424T010000Z
DTEND:20260424T020000Z
X-MICROSOFT-CDO-ALLDAYEVENT:FALSE
SUMMARY:SW Music Keys Scholarship Night
DESCRIPTION:Join Sweetwater Music Keys\, in partnership with Church & Dwight\, for the 2nd Annual Music Scholarship Night at the Broadway Theater! This special evening celebrates local talent and supports the next generation of musicians through scholarship opportunities. Enjoy a night filled with music\, community\, and inspiration all while helping invest in the future of the arts in Rock Springs.
X-ALT-DESC;FMTTYPE=text/html:<p style="box-sizing: border-box\; margin: 0px 0px 10px\; font-family: Montserrat\; font-size: 16px\;">Join Sweetwater Music Keys\, in partnership with Church &amp\; Dwight\, for the&nbsp\;<strong style="box-sizing: border-box\; font-weight: bold\;">2nd Annual Music Scholarship Night</strong>&nbsp\;at the Broadway Theater! This special evening celebrates local talent and supports the next generation of musicians through scholarship opportunities.&nbsp\;<span style="font-family: Montserrat\; font-size: 16px\;">Enjoy a night filled with music\, community\, and inspiration&mdash\;all while helping invest in the future of the arts in Rock Springs.</span></p>\n
LOCATION:Broadway Theater\, Downtown Rock Springs
UID:e.1462.27662
SEQUENCE:3
DTSTAMP:20260423T090328Z
URL:https://business.rockspringschamber.com/events/details/sw-music-keys-scholarship-night-27662
END:VEVENT

END:VCALENDAR
