BEGIN:VCALENDAR
VERSION:2.0
PRODID:-//ChamberMaster//Event Calendar 2.0//EN
METHOD:PUBLISH
X-PUBLISHED-TTL:P3D
REFRESH-INTERVAL:P3D
CALSCALE:GREGORIAN
BEGIN:VEVENT
DTSTART:20190928T150000Z
DTEND:20190928T183000Z
X-MICROSOFT-CDO-ALLDAYEVENT:FALSE
SUMMARY:SW Regional Little Miss Wyoming Pageant
DESCRIPTION:Pageant for Wyoming girls ages birth-17 years. Please text Teri Mahaffy at (307) 752-7956 for an entry form. $50 Entry Fee. Holiday Inn\, Rock Springs. Saturday\, September 28\, 2019. Join Little Miss Wyoming for our 15th season!
X-ALT-DESC;FMTTYPE=text/html:Pageant for Wyoming girls ages birth-17 years. Please text Teri Mahaffy at (307) 752-7956 for an entry form. $50 Entry Fee. Holiday Inn\, Rock Springs. Saturday\, September 28\, 2019. Join Little Miss Wyoming for our 15th season!
LOCATION:Holiday Inn\, Rock Springs\, Wyoming
UID:e.1462.12970
SEQUENCE:3
DTSTAMP:20260420T153043Z
URL:https://business.rockspringschamber.com/events/details/sw-regional-little-miss-wyoming-pageant-12970
END:VEVENT

END:VCALENDAR
