BEGIN:VCALENDAR
VERSION:2.0
PRODID:-//ChamberMaster//Event Calendar 2.0//EN
METHOD:PUBLISH
X-PUBLISHED-TTL:P3D
REFRESH-INTERVAL:P3D
CALSCALE:GREGORIAN
BEGIN:VEVENT
DTSTART:20250516T000000Z
DTEND:20250516T040000Z
X-MICROSOFT-CDO-ALLDAYEVENT:FALSE
SUMMARY:Unlimited Cosmic Bowling
DESCRIPTION:
X-ALT-DESC;FMTTYPE=text/html:
LOCATION:Pla Mor Lanes 327 C St.\, Rock Springs WY 82901
UID:e.1462.21420
SEQUENCE:3
DTSTAMP:20260425T233910Z
URL:https://business.rockspringschamber.com/events/details/unlimited-cosmic-bowling-21420
END:VEVENT

END:VCALENDAR
