BEGIN:VCALENDAR
VERSION:2.0
PRODID:-//ChamberMaster//Event Calendar 2.0//EN
METHOD:PUBLISH
X-PUBLISHED-TTL:P3D
REFRESH-INTERVAL:P3D
CALSCALE:GREGORIAN
BEGIN:VEVENT
DTSTART:20230909T130000Z
DTEND:20230909T223000Z
X-MICROSOFT-CDO-ALLDAYEVENT:FALSE
SUMMARY:Xtreme Music Bingo
DESCRIPTION:Gift Card Bingo prizes\nRaffle prize between the two categories\n\nAdditional prizes given away\n\nLucky Ladies Drawing\n\n \n\nPLEASE READ!! PLEASE READ!! PLEASE READ!!\n\nWe will still be offering a free bingo card per category\, with winning a FREE DRINK.\n\nYou will have the option to upgrade!! With upgrading you will be eligible to receive much bigger prizes and continuing to support our local businesses and economy in our community!! We will have gift cards from LOCAL BUSINESSES!!! All money from the boards will go to supporting more local businesses in the future!! Upgrade your boards for only $10 for the first board and $5 for every board after that!\n\n \n\nWe will be posting gifts certificates and businesses that will be up for grabs\, we hope to see you all there!\n\nCheers!
X-ALT-DESC;FMTTYPE=text/html:<span style="font-family: system-ui\; font-size: 18px\;">Gift Card Bingo prizes</span>\n<div style="box-sizing: border-box\; font-family: system-ui\; font-size: 18px\;">Raffle prize between the two categories</div>\n\n<div style="box-sizing: border-box\; font-family: system-ui\; font-size: 18px\;">Additional prizes given away</div>\n\n<div style="box-sizing: border-box\; font-family: system-ui\; font-size: 18px\;">Lucky Ladies Drawing</div>\n\n<div style="box-sizing: border-box\; font-family: system-ui\; font-size: 18px\;">&nbsp\;</div>\n\n<div style="box-sizing: border-box\; font-family: system-ui\; font-size: 18px\;">PLEASE READ!! PLEASE READ!! PLEASE READ!!</div>\n\n<div style="box-sizing: border-box\; font-family: system-ui\; font-size: 18px\;">We will still be offering a free bingo card per category\, with winning a FREE DRINK.</div>\n\n<div style="box-sizing: border-box\; font-family: system-ui\; font-size: 18px\;">You will have the option to upgrade!! With upgrading you will be eligible to receive much bigger prizes and continuing to support our local businesses and economy in our community!! We will have gift cards from LOCAL BUSINESSES!!! All money from the boards will go to supporting more local businesses in the future!! Upgrade your boards for only $10 for the first board and $5 for every board after that!</div>\n\n<div style="box-sizing: border-box\; font-family: system-ui\; font-size: 18px\;">&nbsp\;</div>\n\n<div style="box-sizing: border-box\; font-family: system-ui\; font-size: 18px\;">We will be posting gifts certificates and businesses that will be up for grabs\, we hope to see you all there!</div>\n\n<div style="box-sizing: border-box\; font-family: system-ui\; font-size: 18px\;">Cheers!</div>\n
LOCATION:The Park Lounge (Park Hotel) 19 Elk Street\, Rock Springs\, WY 82901
UID:e.1462.18841
SEQUENCE:3
DTSTAMP:20260422T062243Z
URL:https://business.rockspringschamber.com/events/details/xtreme-music-bingo-18841
END:VEVENT

END:VCALENDAR
